BEGIN:VCALENDAR
VERSION:2.0
PRODID:-//Fanfare Avenir de Bagnes - ECPv6.15.17.1//NONSGML v1.0//EN
CALSCALE:GREGORIAN
METHOD:PUBLISH
X-WR-CALNAME:Fanfare Avenir de Bagnes
X-ORIGINAL-URL:https://avenirdebagnes.ch
X-WR-CALDESC:Évènements pour Fanfare Avenir de Bagnes
REFRESH-INTERVAL;VALUE=DURATION:PT1H
X-Robots-Tag:noindex
X-PUBLISHED-TTL:PT1H
BEGIN:VTIMEZONE
TZID:Europe/Zurich
BEGIN:DAYLIGHT
TZOFFSETFROM:+0100
TZOFFSETTO:+0200
TZNAME:CEST
DTSTART:20160327T010000
END:DAYLIGHT
BEGIN:STANDARD
TZOFFSETFROM:+0200
TZOFFSETTO:+0100
TZNAME:CET
DTSTART:20161030T010000
END:STANDARD
BEGIN:DAYLIGHT
TZOFFSETFROM:+0100
TZOFFSETTO:+0200
TZNAME:CEST
DTSTART:20170326T010000
END:DAYLIGHT
BEGIN:STANDARD
TZOFFSETFROM:+0200
TZOFFSETTO:+0100
TZNAME:CET
DTSTART:20171029T010000
END:STANDARD
BEGIN:DAYLIGHT
TZOFFSETFROM:+0100
TZOFFSETTO:+0200
TZNAME:CEST
DTSTART:20180325T010000
END:DAYLIGHT
BEGIN:STANDARD
TZOFFSETFROM:+0200
TZOFFSETTO:+0100
TZNAME:CET
DTSTART:20181028T010000
END:STANDARD
END:VTIMEZONE
BEGIN:VEVENT
DTSTART;TZID=Europe/Zurich:20171217T173000
DTEND;TZID=Europe/Zurich:20171217T183000
DTSTAMP:20260424T101409
CREATED:20171105T111035Z
LAST-MODIFIED:20171210T164704Z
UID:1398-1513531800-1513535400@avenirdebagnes.ch
SUMMARY:Concert de l'Avent
DESCRIPTION:Le concert prévu initialement le 10 décembre a été reporté au 17 décembre 2017\, en raison des conditions météorologiques. \nCE CONCERT EST REPORTE AU DIMANCHE 17 DECEMBRE 2017\, A 17H30 ! \nConcert de l’Avent exceptionnel réunissant cinq sociétés Bagnardes sur la même scène ! \nNous vous convions à ce concert de l’Avent qui aura lieu le dimanche 10 décembre 2017 à 17h30 à l’Eglise du Châble. \n\nSociétés :\n\n\nCoeurs-unis de Champsec\n\n\nEcho du Mt-Brun du Châble\n\n\nEdelweiss de Lourtier\n\n\nGentiane de Verbier\n\n\nAvenir de Bagnes\n\n\n \n\n\nL’entrée est libre et une collecte aura lieu à la sortie. \n\n\nLe Concert est en faveur des associations \n\n\n– PluSport\, Sport handicap\, Martigny et environs.\n\n\n– Association TELL-TAABA de l’Oubritenga (Burkina-Faso) ATTO.\n\n\n					Affiches
URL:https://avenirdebagnes.ch/calendrier/concert-de-noel/
LOCATION:Le Châble\, Suisse
CATEGORIES:Concert
END:VEVENT
END:VCALENDAR