BEGIN:VCALENDAR
VERSION:2.0
PRODID:-//Fanfare Avenir de Bagnes - ECPv6.15.17.1//NONSGML v1.0//EN
CALSCALE:GREGORIAN
METHOD:PUBLISH
X-WR-CALNAME:Fanfare Avenir de Bagnes
X-ORIGINAL-URL:https://avenirdebagnes.ch
X-WR-CALDESC:Évènements pour Fanfare Avenir de Bagnes
REFRESH-INTERVAL;VALUE=DURATION:PT1H
X-Robots-Tag:noindex
X-PUBLISHED-TTL:PT1H
BEGIN:VTIMEZONE
TZID:Europe/Zurich
BEGIN:DAYLIGHT
TZOFFSETFROM:+0100
TZOFFSETTO:+0200
TZNAME:CEST
DTSTART:20170326T010000
END:DAYLIGHT
BEGIN:STANDARD
TZOFFSETFROM:+0200
TZOFFSETTO:+0100
TZNAME:CET
DTSTART:20171029T010000
END:STANDARD
BEGIN:DAYLIGHT
TZOFFSETFROM:+0100
TZOFFSETTO:+0200
TZNAME:CEST
DTSTART:20180325T010000
END:DAYLIGHT
BEGIN:STANDARD
TZOFFSETFROM:+0200
TZOFFSETTO:+0100
TZNAME:CET
DTSTART:20181028T010000
END:STANDARD
BEGIN:DAYLIGHT
TZOFFSETFROM:+0100
TZOFFSETTO:+0200
TZNAME:CEST
DTSTART:20190331T010000
END:DAYLIGHT
BEGIN:STANDARD
TZOFFSETFROM:+0200
TZOFFSETTO:+0100
TZNAME:CET
DTSTART:20191027T010000
END:STANDARD
END:VTIMEZONE
BEGIN:VEVENT
DTSTART;TZID=Europe/Zurich:20180317T200000
DTEND;TZID=Europe/Zurich:20180317T220000
DTSTAMP:20260424T014650
CREATED:20180111T135029Z
LAST-MODIFIED:20180303T120006Z
UID:1468-1521316800-1521324000@avenirdebagnes.ch
SUMMARY:Concert Annuel
DESCRIPTION:La Société de Musique l’Avenir de Bagnes a le plaisir de vous convier à son Concert annuel qui aura lieu le samedi 17 mars 2018\, à 20h00\, à l’Espace Saint-Marc au Châble. \nDétails du programme : Evénement FB \nL’entrée est libre. \nLa manifestation est destinée à un public de tout âge. \nPour plus de renseignements\, veuillez nous contacter via le formulaire suivant : contact
URL:https://avenirdebagnes.ch/calendrier/concert-annuel/
LOCATION:Espace Saint-Marc\, Route de Mauvoisin 45\, Le Châble\, Valais\, 1934\, Suisse
CATEGORIES:Concert
END:VEVENT
END:VCALENDAR