BEGIN:VCALENDAR
VERSION:2.0
PRODID:-//Fanfare Avenir de Bagnes - ECPv6.15.17.1//NONSGML v1.0//EN
CALSCALE:GREGORIAN
METHOD:PUBLISH
X-ORIGINAL-URL:https://avenirdebagnes.ch
X-WR-CALDESC:Évènements pour Fanfare Avenir de Bagnes
REFRESH-INTERVAL;VALUE=DURATION:PT1H
X-Robots-Tag:noindex
X-PUBLISHED-TTL:PT1H
BEGIN:VTIMEZONE
TZID:Europe/Zurich
BEGIN:DAYLIGHT
TZOFFSETFROM:+0100
TZOFFSETTO:+0200
TZNAME:CEST
DTSTART:20170326T010000
END:DAYLIGHT
BEGIN:STANDARD
TZOFFSETFROM:+0200
TZOFFSETTO:+0100
TZNAME:CET
DTSTART:20171029T010000
END:STANDARD
BEGIN:DAYLIGHT
TZOFFSETFROM:+0100
TZOFFSETTO:+0200
TZNAME:CEST
DTSTART:20180325T010000
END:DAYLIGHT
BEGIN:STANDARD
TZOFFSETFROM:+0200
TZOFFSETTO:+0100
TZNAME:CET
DTSTART:20181028T010000
END:STANDARD
BEGIN:DAYLIGHT
TZOFFSETFROM:+0100
TZOFFSETTO:+0200
TZNAME:CEST
DTSTART:20190331T010000
END:DAYLIGHT
BEGIN:STANDARD
TZOFFSETFROM:+0200
TZOFFSETTO:+0100
TZNAME:CET
DTSTART:20191027T010000
END:STANDARD
END:VTIMEZONE
BEGIN:VEVENT
DTSTART;VALUE=DATE:20180727
DTEND;VALUE=DATE:20180802
DTSTAMP:20260424T003934
CREATED:20180624T100224Z
LAST-MODIFIED:20180624T100257Z
UID:1806-1532649600-1533167999@avenirdebagnes.ch
SUMMARY:Camp de musique 2018
DESCRIPTION:Camp de musique estival des sociétés Concordia de Nendaz\, Edelweiss d’Orsières et Avenir de Bagnes. \nPlus d’infos à suivre….
URL:https://avenirdebagnes.ch/calendrier/camp-de-musique/
LOCATION:Valais
CATEGORIES:Autre
END:VEVENT
BEGIN:VEVENT
DTSTART;TZID=Europe/Zurich:20180731T123000
DTEND;TZID=Europe/Zurich:20180731T133000
DTSTAMP:20260424T003934
CREATED:20180714T151146Z
LAST-MODIFIED:20180714T151905Z
UID:1825-1533040200-1533043800@avenirdebagnes.ch
SUMMARY:Concert (Camp de musique)
DESCRIPTION:Les jeunes musiciens du camp de musique estival des sociétés Edelweiss d’Orsières\, la Concordia de Nendaz et l’Avenir de Bagnes se produiront en concert dans le cadre du Verbier Festival Unlimited.
URL:https://avenirdebagnes.ch/calendrier/concert-camp-de-musique/
LOCATION:Le Hameau\, Verbier\, Rue de la Bérarde 34\, Verbier\, Valais\, 1936
END:VEVENT
END:VCALENDAR