BEGIN:VCALENDAR
VERSION:2.0
PRODID:-//Fanfare Avenir de Bagnes - ECPv6.15.17.1//NONSGML v1.0//EN
CALSCALE:GREGORIAN
METHOD:PUBLISH
X-ORIGINAL-URL:https://avenirdebagnes.ch
X-WR-CALDESC:Évènements pour Fanfare Avenir de Bagnes
REFRESH-INTERVAL;VALUE=DURATION:PT1H
X-Robots-Tag:noindex
X-PUBLISHED-TTL:PT1H
BEGIN:VTIMEZONE
TZID:Europe/Zurich
BEGIN:DAYLIGHT
TZOFFSETFROM:+0100
TZOFFSETTO:+0200
TZNAME:CEST
DTSTART:20170326T010000
END:DAYLIGHT
BEGIN:STANDARD
TZOFFSETFROM:+0200
TZOFFSETTO:+0100
TZNAME:CET
DTSTART:20171029T010000
END:STANDARD
BEGIN:DAYLIGHT
TZOFFSETFROM:+0100
TZOFFSETTO:+0200
TZNAME:CEST
DTSTART:20180325T010000
END:DAYLIGHT
BEGIN:STANDARD
TZOFFSETFROM:+0200
TZOFFSETTO:+0100
TZNAME:CET
DTSTART:20181028T010000
END:STANDARD
BEGIN:DAYLIGHT
TZOFFSETFROM:+0100
TZOFFSETTO:+0200
TZNAME:CEST
DTSTART:20190331T010000
END:DAYLIGHT
BEGIN:STANDARD
TZOFFSETFROM:+0200
TZOFFSETTO:+0100
TZNAME:CET
DTSTART:20191027T010000
END:STANDARD
END:VTIMEZONE
BEGIN:VEVENT
DTSTART;VALUE=DATE:20180513
DTEND;VALUE=DATE:20180514
DTSTAMP:20260424T072903
CREATED:20180425T171954Z
LAST-MODIFIED:20180507T093230Z
UID:1754-1526169600-1526255999@avenirdebagnes.ch
SUMMARY:Festival FFLRC
DESCRIPTION:La Société de Musique l’Avenir de Bagnes se réjouit de participer au 126 ème Festival FFLRC qui aura lieu à Nendaz les 12 et 13 mai 2018 et organisé par nos amis de la Concordia de Nendaz.
URL:https://avenirdebagnes.ch/calendrier/fflrc/
LOCATION:Nendaz
CATEGORIES:Festival
END:VEVENT
END:VCALENDAR