BEGIN:VCALENDAR
VERSION:2.0
PRODID:-//Fanfare Avenir de Bagnes - ECPv6.15.17.1//NONSGML v1.0//EN
CALSCALE:GREGORIAN
METHOD:PUBLISH
X-WR-CALNAME:Fanfare Avenir de Bagnes
X-ORIGINAL-URL:https://avenirdebagnes.ch
X-WR-CALDESC:Évènements pour Fanfare Avenir de Bagnes
REFRESH-INTERVAL;VALUE=DURATION:PT1H
X-Robots-Tag:noindex
X-PUBLISHED-TTL:PT1H
BEGIN:VTIMEZONE
TZID:Europe/Zurich
BEGIN:DAYLIGHT
TZOFFSETFROM:+0100
TZOFFSETTO:+0200
TZNAME:CEST
DTSTART:20160327T010000
END:DAYLIGHT
BEGIN:STANDARD
TZOFFSETFROM:+0200
TZOFFSETTO:+0100
TZNAME:CET
DTSTART:20161030T010000
END:STANDARD
BEGIN:DAYLIGHT
TZOFFSETFROM:+0100
TZOFFSETTO:+0200
TZNAME:CEST
DTSTART:20170326T010000
END:DAYLIGHT
BEGIN:STANDARD
TZOFFSETFROM:+0200
TZOFFSETTO:+0100
TZNAME:CET
DTSTART:20171029T010000
END:STANDARD
BEGIN:DAYLIGHT
TZOFFSETFROM:+0100
TZOFFSETTO:+0200
TZNAME:CEST
DTSTART:20180325T010000
END:DAYLIGHT
BEGIN:STANDARD
TZOFFSETFROM:+0200
TZOFFSETTO:+0100
TZNAME:CET
DTSTART:20181028T010000
END:STANDARD
END:VTIMEZONE
BEGIN:VEVENT
DTSTART;VALUE=DATE:20170728
DTEND;VALUE=DATE:20170802
DTSTAMP:20260425T060751
CREATED:20170601T111629Z
LAST-MODIFIED:20170727T202443Z
UID:877-1501200000-1501631999@avenirdebagnes.ch
SUMMARY:Camp musical estival
DESCRIPTION:Camp musical estival. \n\n\n\n\n\n\n\n\n\n\n\n\n\n\n\n\n\n\n\n\n\n\n\n\n\n\n\n\n\n\n\nCamp musical aux Collons 1900\, colonie « Les Diablotins ». \n\n\n\n\n\n\n\n\n\n\n\n\n\n\n\n\n\n\n\n\n\n\n\n\n\n\n\n\n\n\n\nConcert finaux à Thyon-Les Collons le lundi 31.7 à 18h30 et à Champex dans le cadre des festivités du 1er août le mardi 1.8 à 17h
URL:https://avenirdebagnes.ch/calendrier/camp-musical-estival/
LOCATION:Valais
END:VEVENT
END:VCALENDAR