BEGIN:VCALENDAR
VERSION:2.0
PRODID:-//Fanfare Avenir de Bagnes - ECPv6.15.17.1//NONSGML v1.0//EN
CALSCALE:GREGORIAN
METHOD:PUBLISH
X-WR-CALNAME:Fanfare Avenir de Bagnes
X-ORIGINAL-URL:https://avenirdebagnes.ch
X-WR-CALDESC:Évènements pour Fanfare Avenir de Bagnes
REFRESH-INTERVAL;VALUE=DURATION:PT1H
X-Robots-Tag:noindex
X-PUBLISHED-TTL:PT1H
BEGIN:VTIMEZONE
TZID:Europe/Zurich
BEGIN:DAYLIGHT
TZOFFSETFROM:+0100
TZOFFSETTO:+0200
TZNAME:CEST
DTSTART:20160327T010000
END:DAYLIGHT
BEGIN:STANDARD
TZOFFSETFROM:+0200
TZOFFSETTO:+0100
TZNAME:CET
DTSTART:20161030T010000
END:STANDARD
BEGIN:DAYLIGHT
TZOFFSETFROM:+0100
TZOFFSETTO:+0200
TZNAME:CEST
DTSTART:20170326T010000
END:DAYLIGHT
BEGIN:STANDARD
TZOFFSETFROM:+0200
TZOFFSETTO:+0100
TZNAME:CET
DTSTART:20171029T010000
END:STANDARD
BEGIN:DAYLIGHT
TZOFFSETFROM:+0100
TZOFFSETTO:+0200
TZNAME:CEST
DTSTART:20180325T010000
END:DAYLIGHT
BEGIN:STANDARD
TZOFFSETFROM:+0200
TZOFFSETTO:+0100
TZNAME:CET
DTSTART:20181028T010000
END:STANDARD
END:VTIMEZONE
BEGIN:VEVENT
DTSTART;VALUE=DATE:20170514
DTEND;VALUE=DATE:20170515
DTSTAMP:20260425T184654
CREATED:20170320T184924Z
LAST-MODIFIED:20170326T163121Z
UID:541-1494720000-1494806399@avenirdebagnes.ch
SUMMARY:125 ème Festival FFLRC à Orsières
DESCRIPTION:L’Avenir de Bagnes participera au Festival des fanfares libérales radicales du centre 2017\, à Orsières. \nDétails de la journée : à venir.
URL:https://avenirdebagnes.ch/calendrier/festival-fflrc/
LOCATION:Orsières\, Valais\, 1937\, Suisse
CATEGORIES:Festival
END:VEVENT
END:VCALENDAR